BEGIN:VCALENDAR
VERSION:2.0
PRODID:-//Tukios.com/
BEGIN:VEVENT
UID:e067fe4a-fd34-4e73-8b8a-a181b8888220@www.courtneyfh.com
DTSTAMP:20260420T185953Z
DTSTART:20260425T140000Z
DTEND:20260425T160000Z
SUMMARY:Visitation
DESCRIPTION:
URL:https://www.courtneyfh.com/obituaries/martin-foster
LOCATION:Courtney Funeral Home 25 Townsend St  Walton NY 13856
GEO:42.1700301;-75.1299331
END:VEVENT
END:VCALENDAR