BEGIN:VCALENDAR
VERSION:2.0
PRODID:-//Tukios.com/
BEGIN:VEVENT
UID:6e35bb21-e75d-4671-a871-cb16be4be62a@www.courtneyfh.com
DTSTAMP:20260420T190128Z
DTSTART:20260425T160000Z
DTEND:20260425T170000Z
SUMMARY:Funeral Service
DESCRIPTION:
URL:https://www.courtneyfh.com/obituaries/martin-foster
LOCATION:Courtney Funeral Home 25 Townsend St  Walton NY 13856
GEO:42.1700301;-75.1299331
END:VEVENT
END:VCALENDAR